BEGIN:VCALENDAR
VERSION:2.0
PRODID:-//https://www.sialendoscopy.eu///NONSGML kigkonsult.se iCalcreator 2.10.15//
METHOD:PUBLISH
BEGIN:VEVENT
UID:20260421T122707CEST-6244xjNuUc@https://www.sialendoscopy.eu/
DTSTAMP:20260421T102707Z
DESCRIPTION:To register\, click here or go to https://www.sialendoscopy-gen
 eva.com/.\n https://www.sialendoscopy.eu/index.php/membership-fellowship/b
 ecome-a-member/event/3-2023-geneva-course-and-congress
DTSTART:20230904T060000Z
DTEND:20230907T160000Z
LOCATION:Clinique Générale Beaulieu (Chemin de Beau-Soleil 20\, 1206 Genève
 \, Suisse)
SUMMARY:2023 Geneva Course and Congress
URL:https://www.sialendoscopy.eu/index.php/membership-fellowship/become-a-m
 ember/event/3-2023-geneva-course-and-congress
END:VEVENT
END:VCALENDAR
